BEGIN:VCALENDAR
VERSION:2.0
PRODID:-//Under The Lino - ECPv4.6.14.1//NONSGML v1.0//EN
CALSCALE:GREGORIAN
METHOD:PUBLISH
X-WR-CALNAME:Under The Lino
X-ORIGINAL-URL:http://www.underthelino.com.au
X-WR-CALDESC:Events for Under The Lino
BEGIN:VEVENT
DTSTART;TZID=Australia/Brisbane:20180603T123000
DTEND;TZID=Australia/Brisbane:20180603T140000
DTSTAMP:20210301T012032
CREATED:20180501T012227Z
LAST-MODIFIED:20180501T012429Z
UID:1006-1528029000-1528034400@www.underthelino.com.au
SUMMARY:Boggo Road Goal Tour
DESCRIPTION: \nContact Caylie Jeffery via email link to register your interest… \n\n\n	Related\n
URL:http://www.underthelino.com.au/event/boggo-road-goal-tour/
LOCATION:21 Boggo Rd\, Dutton Park\, QLD\, 4102\, Australia
ORGANIZER;CN="Caylie%20Jeffery":MAILTO:underthelino@hotmail.com
END:VEVENT
END:VCALENDAR