BEGIN:VCALENDAR
VERSION:2.0
PRODID:-//Under The Lino - ECPv4.6.14.1//NONSGML v1.0//EN
CALSCALE:GREGORIAN
METHOD:PUBLISH
X-WR-CALNAME:Under The Lino
X-ORIGINAL-URL:http://www.underthelino.com.au
X-WR-CALDESC:Events for Under The Lino
BEGIN:VEVENT
DTSTART;TZID=Australia/Brisbane:20180523T120000
DTEND;TZID=Australia/Brisbane:20181024T130000
DTSTAMP:20210301T012143
CREATED:20180521T235446Z
LAST-MODIFIED:20180521T235446Z
UID:1162-1527076800-1540386000@www.underthelino.com.au
SUMMARY:Life in Irons Exhibition and Curator Tours
DESCRIPTION:Weekly\, every Wednesday\, 23 May – 24 Oct 2018 12.00pm \nJoin Curator Madeline Johns and historians Dr Ray Kerkhove and Jenny Harrison for a series of exhibition tours that will share new research\, delve deeply into the personal stories and provide an insight into key themes\, design and conservation challenges of this exciting show. \nMoreton Bay penal colony was established by the British Government to “…reinstate transportation as an object of real terror to all classes of society”. It succeeded. Life in Ironsprovides a vivid insight into daily life in the settlement using original documents\, personal accounts and contemporary art\, alongside immersive new technologies. \nFree\, bookings required \n\n\n	Related\n
URL:http://www.underthelino.com.au/event/life-in-irons-exhibition-and-curator-tours/
LOCATION:Level 3\, City Hall\, King George Square\, 64 Adelaide St\, Brisbane\, QLD\, 4000\, Australia
END:VEVENT
END:VCALENDAR