BEGIN:VCALENDAR
VERSION:2.0
PRODID:-//Under The Lino - ECPv4.6.14.1//NONSGML v1.0//EN
CALSCALE:GREGORIAN
METHOD:PUBLISH
X-WR-CALNAME:Under The Lino
X-ORIGINAL-URL:http://www.underthelino.com.au
X-WR-CALDESC:Events for Under The Lino
BEGIN:VEVENT
DTSTART;TZID=Australia/Brisbane:20180809T173000
DTEND;TZID=Australia/Brisbane:20180809T190000
DTSTAMP:20210301T010648
CREATED:20180522T000909Z
LAST-MODIFIED:20180522T000909Z
UID:1169-1533835800-1533841200@www.underthelino.com.au
SUMMARY:The past is present: In Conversation with Trent Dalton & Matthew Condon
DESCRIPTION:How do the ghosts of Brisbane’s past continue to haunt us and what lessons can they offer us as we plan for the future of our city? \nJoin us for what will be an intriguing and insightful evening of conversation between two friends and seasoned writers of Brisbane’s past and present as they ponder how our difficult past has shaped the city that we know today. \n\nThursday 9 Aug 2018\n5.30pm\n$20\nDome Lounge\n\n \n \n\n\n	Related\n
URL:http://www.underthelino.com.au/event/the-past-is-present-in-conversation-with-trent-dalton-matthew-condon/
LOCATION:Level 3\, City Hall\, King George Square\, 64 Adelaide St\, Brisbane\, QLD\, 4000\, Australia
END:VEVENT
END:VCALENDAR