BEGIN:VCALENDAR
VERSION:2.0
PRODID:-//Under The Lino - ECPv4.6.14.1//NONSGML v1.0//EN
CALSCALE:GREGORIAN
METHOD:PUBLISH
X-WR-CALNAME:Under The Lino
X-ORIGINAL-URL:http://www.underthelino.com.au
X-WR-CALDESC:Events for Under The Lino
BEGIN:VEVENT
DTSTART;TZID=Australia/Brisbane:20181013T150000
DTEND;TZID=Australia/Brisbane:20181013T170000
DTSTAMP:20210301T002405
CREATED:20180820T024405Z
LAST-MODIFIED:20180820T024405Z
UID:1418-1539442800-1539450000@www.underthelino.com.au
SUMMARY:Under the Lino Brisbane Book Launch #1
DESCRIPTION: \n\n\n	Related\n
URL:http://www.underthelino.com.au/event/under-the-lino-brisbane-book-launch-1/
LOCATION:233 Milton Rd\, Milton\, QLD\, 4064\, Australia
ORGANIZER;CN="Caylie%20Jeffery":MAILTO:underthelino@hotmail.com
END:VEVENT
END:VCALENDAR